Workbook

Sheet KH-DATEN
B2: PERSONALBEDARFSPLANUNG KODIERFACHKRÄFTE MD-MANAGEMENT MEDIZINCONTROLLING | C2: STATIONÄR | D2: Fallzahl (E1, E3.1, E3.3)
D3: Anzahl Wiederaufnahmen
D4: Anzahl Umwandlg. Stat.-Amb.
D5: Fallzahl Gesamt (stationär behandelt) | E5: =SUM(E2:E4) -> 0
D6: GKV-Quote
D7: PV- & BG-Quote
D8: Mittlere Verweildauer (Tage)
D9: MD-Prüfquote
D10: MBEG-Quote
D11: Falldialog-Quote
D12: PV-BG-Prüfquote
D13: MW Anzahl Diagnosen pro Patient
D14: MW Anzahl OPS pro Patient
D15: Anzahl Patienten Komplexbehdlung
D16: Anzahl QS-Bögen
C17: AMB. | D17: Fallzahl (nur vorstationär)
D18: Fallzahl (nur ambulant)
D19: Fallzahl (Hybrid-DRG)
D20: Arbeitstage im Jahr
D21: Ausfallqoute (%)
D22: Arbeitsstunden pro Tag
D23: Arbeitsstunden Jahr inkl. Ausfall

Sheet KODIERUNG
B2: PERSONALBEDARFSPLANUNG KODIERFACHKRÄFTE
B3: Tätigkeit bei … | C3: Ja = "x" | D3: Aufwand … | E3: in Minuten [ Werte ggf. anpassen ] | F3: Arbeitszeit (Min.) GESAMT
B5: 1. STATIONÄRE PATIENTEN …
B6: 1.1. Patientenaufnahme (Aufnahmekodierung)
B7: Administrative Aufnahme | D7: pro Patient | E7: 15 | F7: =IF(C7="x",E7*'KH-DATEN'!$E$5,"")
B8: Kontrolle der Aufnahmedaten auf Vollständigkeit | D8: pro Patient | E8: 1 | F8: =IF(C8="x",E8*'KH-DATEN'!$E$5,"")
B9: Erfassung der Aufnahmediagnose und gfs. med. Nebendiagnosen | D9: pro Diagnose | E9: 2 | F9: =IF(C9="x",E9*(('KH-DATEN'!$E$13+'KH-DATEN'!$E$14)*50%)*'KH-DATEN'!$E$5,"")
B10: Ermittlung "Arbeits-DRG" und Verweildauer | D10: pro Patient | E10: 1 | F10: =IF(C10="x",E10*'KH-DATEN'!$E$5,"")
B11: Sonstiges | D11: pro Patient | E11: 2 | F11: =IF(C11="x",E11*'KH-DATEN'!$E$5,"")
F12: =IF(C12="x",E12*'KH-DATEN'!$E$5,"")
B13: 1.2. Während der Diagnostik und Therapie (Fallbegleitende Kodierung)
B14: Koordinierung und Vervollständigung Akte | D14: pro Patient | E14: 5 | F14: =IF(C14="x",E14*'KH-DATEN'!$E$5,"")
B15: Einholen und einpflegen der Befunde | D15: pro Patient | E15: 5 | F15: =IF(C15="x",E15*'KH-DATEN'!$E$5,"")
B16: Tägliche Visitenvorbereitung, -teilnahme. -nachbereitung | D16: pro Patient | E16: 2 | F16: =IF(C16="x",(E16*'KH-DATEN'!$E$5)*'KH-DATEN'!$E$8,"")
B17: Dokumentation Komplexer Behandlungen (Komplex-DRG / -OPS) | D17: pro Patient | E17: 30 | F17: =IF(C17="x",E17*'KH-DATEN'!E15,"")
B18: Tägliche Aktualisierung der Kodierung und Arbeits-DRG | D18: pro Diagnose oder OPS | E18: 2 | F18: =IF(C18="x",E18*(('KH-DATEN'!$E$13+'KH-DATEN'!$E$14)*70%)*'KH-DATEN'!$E$5,"")
B19: Entlassbrief laufend ergänzen | D19: pro Patient | E19: 1 | F19: =IF(C19="x",(E19*'KH-DATEN'!$E$5)*('KH-DATEN'!$E$8-1),"")
B20: Sonstiges | D20: pro Patient | E20: 1 | F20: =IF(C20="x",(E20*'KH-DATEN'!$E$5)*('KH-DATEN'!$E$8-1),"")
B22: 1.3. Entlassung / Verlegung (Abschlusskodierung)
B23: Kontrolle der gesamten Dokumentation auf Vollständigkeit | D23: pro Patient | E23: 5 | F23: =IF(C23="x",(E23*'KH-DATEN'!$E$5),"")
B24: Validierung der Abschluss-Kodierung | D24: pro Patient | E24: 3 | F24: =IF(C24="x",(E24*'KH-DATEN'!$E$5),"")
B25: Fertigstellung Arztbrief | D25: pro Patient | E25: 10 | F25: =IF(C25="x",(E25*'KH-DATEN'!$E$5),"")
B26: Briefe und Befunde verschicken und scannen | D26: pro Patient | E26: 1 | F26: =IF(C26="x",(E26*'KH-DATEN'!$E$5),"")
B27: nachträgliche Befundzuordnung | D27: pro Patient | E27: 1 | F27: =IF(C27="x",(E27*'KH-DATEN'!$E$5),"")
B28: Sonstiges | D28: pro Patient | E28: 1 | F28: =IF(C28="x",(E28*'KH-DATEN'!$E$5),"")
B30: 1.4. MBEG & Falldialoge
B31: MBEG bearbeiten | D31: pro MBEG | E31: 15 | F31: =IF(C31="x",(E31*'KH-DATEN'!E5)*'KH-DATEN'!E10,"")
B32: Falldialoge bearbeiten | D32: pro Falldialog | E32: 20 | F32: =IF(C32="x",(E32*'KH-DATEN'!E5)*'KH-DATEN'!E11,"")
B34: 1.5. Externe Qualitätssicherung
B35: QS-Bögen bearbeiten | D35: pro QS-Bogen | E35: 15 | F35: =IF(C35="x",(E35*'KH-DATEN'!E16),"")
B36: QS-Bögen prüfen | D36: pro QS-Bogen | E36: 2 | F36: =IF(C36="x",(E36*'KH-DATEN'!E16),"")
B37: Sonstiges | D37: pro QS-Bogen | E37: 1 | F37: =IF(C37="x",(E37*'KH-DATEN'!E16),"")
B39: 2. AMBULANTE PATIENTEN …
B40: 2.1. Vorstationäre Patienten
B41: ICD und OPS-Kodierung | D41: pro Patient | E41: 5 | F41: =IF(C41="x",E41*'KH-DATEN'!$E$17,"")
B42: Sonstiges | D42: pro Patient | E42: 1 | F42: =IF(C42="x",E42*'KH-DATEN'!$E$18,"")
F43: =IF(C43="x",E43*'KH-DATEN'!$E$18,"")
B44: 2.2. Ambulanten Patienten (ZNA, AOP …)
B45: ICD und OPS-Kodierung | D45: pro Patient | E45: 10 | F45: =IF(C45="x",E45*'KH-DATEN'!$E$18,"")
B46: Sonstiges | D46: pro Patient | E46: 1 | F46: =IF(C46="x",E46*'KH-DATEN'!$E$18,"")
F47: =IF(C47="x",E47*'KH-DATEN'!$E$18,"")
B48: 2.3. Hybrid-DRG
B49: ICD und OPS-Kodierung | D49: pro Patient | E49: 15 | F49: =IF(C49="x",E49*'KH-DATEN'!$E$19,"")
B50: Validierung Hybrid-DRG | D50: pro Patient | E50: 5 | F50: =IF(C50="x",E50*'KH-DATEN'!$E$19,"")
B51: Sonstiges | D51: pro Patient | E51: 1 | F51: =IF(C51="x",E51*'KH-DATEN'!$E$18,"")
F52: =IF(C52="x",E52*'KH-DATEN'!$E$18,"")
B53: TOTAL : | F53: =SUM(F7:F52) -> 0
F54: =F53/60 -> 0
F55: =ROUND(F54/'KH-DATEN'!E23,2) -> #DIV/0!

Sheet MD-MANAGEMENT
B2: PERSONALBEDARFSPLANUNG MD-MANAGEMENT
B3: Tätigkeit bei … | C3: Ja = "x" | D3: Aufwand … | E3: in Minuten [ Werte ggf. anpassen ] | F3: Arbeitszeit (Min.) GESAMT
B5: MD-Management
B6: 1. Erfassung der Prüffälle
B7: Administrative Erfassung MBEG-Fälle | D7: pro Fall | E7: 4 | F7: =IF(C7="X",((E7*'KH-DATEN'!E5)*'KH-DATEN'!E10),"")
B8: Administrative Erfassung Falldialog-Fälle | D8: pro Fall | E8: 4 | F8: =IF(C8="X",((E8*'KH-DATEN'!E5)*'KH-DATEN'!E11),"")
B9: Administrative Erfassung MD-Fälle (GKV) | D9: pro Fall | E9: 4 | F9: =IF(C9="X",((E9*'KH-DATEN'!E5)*'KH-DATEN'!E9)*'KH-DATEN'!E6,"")
B10: Administrative Erfassung Sonstige-Prüffälle (PV, BG) | D10: pro Fall | E10: 4 | F10: =IF(C10="X",((E10*'KH-DATEN'!E5)*'KH-DATEN'!E12)*'KH-DATEN'!E7,"")
F11: =IF(C11="X",E11*12,"")
B12: 2. Durchführung der Prüfungen (schriftlich oder vor Ort - bitte Zeiten pro Fall anpassen!)
B13: Durchführung MBEG-Fälle (Achtung! Ggf. bei KF bereits berücksichtigt?) | D13: pro Fall | E13: 15 | F13: =IF(C13="X",((E13*'KH-DATEN'!E5)*'KH-DATEN'!E10),"")
B14: Durchführung Falldialog-Fälle (Achtung! Ggf. bei KF bereits berücksichtigt?) | D14: pro Fall | E14: 20 | F14: =IF(C14="X",((E14*'KH-DATEN'!E5)*'KH-DATEN'!E11),"")
B15: Durchführung MD-Fälle (GKV) | D15: pro Fall | E15: 35 | F15: =IF(C15="X",((E15*'KH-DATEN'!E5)*'KH-DATEN'!E9)*'KH-DATEN'!E6,"")
B16: Durchführung Sonstige-Prüffälle (PV, BG) | D16: pro Fall | E16: 35 | F16: =IF(C16="X",((E16*'KH-DATEN'!E5)*'KH-DATEN'!E12)*'KH-DATEN'!E7,"")
B18: 3. Nachbearbeitung, Berichterstattung …
B19: Umsetzung der Prüfergebnisse | D19: pro Fall | E19: 10 | F19: =IF(C19="X",((E19*'KH-DATEN'!E5)*'KH-DATEN'!E10),"")
B20: Prüf-Tool-Datenbankpflege | D20: pro Fall | E20: 1 | F20: =IF(C20="X",((E20*'KH-DATEN'!E5)*'KH-DATEN'!E9),"")
B21: Berichterstattung Prüfergebnisse | D21: pro Monat | E21: 60 | F21: =IF(C21="X",12*E21,"")
B22: Sonstiges … | D22: pro Fall | E22: 1 | F22: =IF(C22="X",((E22*'KH-DATEN'!E5)*'KH-DATEN'!E9),"")
F23: =IF(C23="X",E23*12,"")
B24: TOTAL : | F24: =SUM(F7:F23) -> 0
F25: =F24/60 -> 0
F26: =ROUND(F25/'KH-DATEN'!E23,2) -> #DIV/0!

Sheet MEDIZINCONTROLLING
B2: PERSONALBEDARFSPLANUNG MEDIZINCONTROLLING
B3: Tätigkeit bei … | C3: Ja = "x" | D3: Aufwand … | E3: in Minuten [ Werte ggf. anpassen ] | F3: Arbeitszeit (Min.) GESAMT
B5: Operative Medizincontrolling-Tätigkeiten …
B6: Kodierrevision | D6: pro Fall | E6: 2 | F6: =IF(C6="X",(E6*'KH-DATEN'!E5),"")
B7: Supervision Kodierfachkräfte, Ärzte, Pflege | D7: pro Fall | E7: 0.5 | F7: =IF(C7="X",(E7*'KH-DATEN'!$E$5),"")
B8: Weiterbildung und Schulung von am Kodierprozess Beteiligten | D8: pro Fall | E8: 0.5 | F8: =IF(C8="X",(E8*'KH-DATEN'!$E$5),"")
B9: Berichtswesen (DRG, ICD, OPS, VWD, CM, CMI, MD-Erg. etc.) | D9: pro Fall | E9: 2 | F9: =IF(C9="X",(E9*'KH-DATEN'!$E$5),"")
B10: Pflege und Weiterentwicklung des Datenpools als Grundlage für Berichte | D10: pro Fall | E10: 0.1 | F10: =IF(C10="X",(E10*'KH-DATEN'!$E$5),"")
B11: Medizinisch-ökonomische Bewertung von Entgeltstatistiken und Fallzahlenentwicklungen | D11: pro Fall | E11: 0.5 | F11: =IF(C11="X",(E11*'KH-DATEN'!$E$5),"")
B12: Handlungsempfehlungen zur Verbesserung der Dokumentations- und Kodierqualität | D12: pro Fall | E12: 0.1 | F12: =IF(C12="X",(E12*'KH-DATEN'!$E$5),"")
B13: Vorbereitung und Durchführung von LOPS-Strukturprüfungen | D13: pro Fall | E13: 0.1 | F13: =IF(C13="X",(E13*'KH-DATEN'!$E$5),"")
B14: Sonstiges … | F14: =IF(C14="X",E14*12,"")
B16: Strategische Medizincontrolling-Tätigkeiten …
B17: Strategisches Controlling, Projekte, Adhoc-Abfragen … (Annahme: 8 Std. pro Woche) | D17: pro Monat | E17: =4*8*60 -> 1920 | F17: =IF(C17="X",E17*12,"")
B18: Analyse und Steuerung von Erlös- und Mengengerüsten (Annahme: 8 Std. pro Monat) | D18: pro Monat | E18: =8*60 -> 480 | F18: =IF(C18="X",E18*12,"")
B19: Benchmarking mit Referenzhäusern (Annahme: 8 Std. pro Quartal) | D19: pro Quartal | E19: =8*60 -> 480 | F19: =IF(C19="X",E19*4,"")
B20: MD-Risikobewertung in Monatsberichten und im Jahresabschluss (Annahme: 2 Std. pro Monat) | D20: pro Monat | E20: =2*60 -> 120 | F20: =IF(C20="X",E20*12,"")
B21: InEK Personal und Sachkosten-Analysen (Annahme: 16 Std. pro Jahr) | D21: pro Jahr | E21: =16*60 -> 960 | F21: =IF(C21="X",E21,"")
B22: Unterstützung bei Investitionsanträgen und Honorarverträgen (Annahme: 16 Std. pro Jahr) | D22: pro Jahr | E22: =16*60 -> 960 | F22: =IF(C22="X",E22,"")
B23: Sonstiges … | F23: =IF(C23="X",E23*12,"")
B25: Sosnstige Medizincontrolling-Tätigkeiten …
B26: Vorbereitung und Begleitung von Budgetverhandlungen (Annahme: 15 Arbeitstage) | D26: pro Jahr | E26: =15*8*60 -> 7200 | F26: =IF(C26="X",E26,"")
B27: Erstellung von Auswertungen für fachärztliche Weiterbildung (Annahme: 4 x 3 Std.) | D27: pro Jahr | E27: =4*3*60 -> 720 | F27: =IF(C27="X",E27,"")
B28: Erstellung von Auswertungen für Chefarzt-Weiterbildungsberechtigung (Annahme: 2 x 4 Std.) | D28: pro Jahr | E28: =8*60 -> 480 | F28: =IF(C28="X",E28,"")
B29: Externe Qualitätssicherung (Administration, Berichtswesen, Meldewesen …) | D29: je QS-Bogen | E29: 11 | F29: =IF(C29="X",E29*'KH-DATEN'!E16,"")
B30: Sonstiges …
B32: TOTAL : | F32: =SUM(F6:F15,F17:F24,F26:F31) -> 0
F33: =F32/60 -> 0
F34: =F33/'KH-DATEN'!E23 -> #DIV/0!
